BEGIN:VCALENDAR
VERSION:2.0
PRODID:-//ZContent.net//ZapCalLib 1.0//EN
CALSCALE:GREGORIAN
METHOD:PUBLISH
BEGIN:VEVENT
SUMMARY:Kampf ums Wasser | Das Menschenrecht auf Wasser
DTSTART:20250127T200000
DTEND:20250127T200000
UID:2026-04-23-17-54-57-0-@calendar.boell.de
DTSTAMP:20260423T155457
DESCRIPTION:Nürnberg – Petra-Kelly-Stiftung
END:VEVENT
END:VCALENDAR
