BEGIN:VCALENDAR
VERSION:2.0
PRODID:-//ZContent.net//ZapCalLib 1.0//EN
CALSCALE:GREGORIAN
METHOD:PUBLISH
BEGIN:VEVENT
SUMMARY:Klimapartnerschaft zwischen Deutschland und Kolumbien  | Die Heraus
 forderungen einer gerechten Energietransition in den kolumbianischen Kohle
 revieren
DTSTART:20250131T200000
DTEND:20250131T200000
UID:2026-04-23-05-03-05-0-@calendar.boell.de
DTSTAMP:20260423T030305
DESCRIPTION:Nürnberg – Petra-Kelly-Stiftung
END:VEVENT
END:VCALENDAR
