BEGIN:VCALENDAR
VERSION:2.0
PRODID:-//ZContent.net//ZapCalLib 1.0//EN
CALSCALE:GREGORIAN
METHOD:PUBLISH
BEGIN:VEVENT
SUMMARY:Lebensrealitäten ungewollt Schwangerer | Hindernisparcours durch d
 as Schwangerschaftsabbruchsrecht und Vortrag von Prof. Dr. Liane Wörner
DTSTART:20250313T170000
DTEND:20250313T193000
UID:2026-04-21-15-22-42-0-@calendar.boell.de
DTSTAMP:20260421T132242
DESCRIPTION:▶ Siehe Veranstaltungsbeschreibung – Konstanz – Heinrich 
 Böll Stiftung Baden-Württemberg
END:VEVENT
END:VCALENDAR
