BEGIN:VCALENDAR
VERSION:2.0
PRODID:-//ZContent.net//ZapCalLib 1.0//EN
CALSCALE:GREGORIAN
METHOD:PUBLISH
BEGIN:VEVENT
SUMMARY:Kreative Methoden politischer Einmischung | Weiterbildung
DTSTART:20250314T093000
DTEND:20250314T170000
UID:2026-04-24-14-59-53-0-@calendar.boell.de
DTSTAMP:20260424T125953
DESCRIPTION:Halle (Saale) – Landesstiftung Sachsen-Anhalt
END:VEVENT
END:VCALENDAR
