BEGIN:VCALENDAR
VERSION:2.0
PRODID:-//ZContent.net//ZapCalLib 1.0//EN
CALSCALE:GREGORIAN
METHOD:PUBLISH
BEGIN:VEVENT
SUMMARY:Moderation im Kontext rechter und rassistischer Positionen | Neutra
 l sein gibt es nicht!
DTSTART:20250523T170000
DTEND:20250524T173000
UID:2026-04-22-22-12-03-0-@calendar.boell.de
DTSTAMP:20260422T201203
DESCRIPTION:▶ Siehe Veranstaltungsbeschreibung – Berlin – Landesstift
 ung Berlin (Bildungswerk)
END:VEVENT
END:VCALENDAR
