BEGIN:VCALENDAR
VERSION:2.0
PRODID:-//ZContent.net//ZapCalLib 1.0//EN
CALSCALE:GREGORIAN
METHOD:PUBLISH
BEGIN:VEVENT
SUMMARY:Prenzlberg auf der Leinwand - Film & Dialog: "Rabbinerin Regina Jon
 as" (Wartel.) | Jüdischer Feminismus und Erinnerungskultur
DTSTART:20250424T193000
DTEND:20250424T220000
UID:2026-04-23-09-18-25-0-@calendar.boell.de
DTSTAMP:20260423T071825
DESCRIPTION:▶ Siehe Veranstaltungsbeschreibung – Berlin – Landesstift
 ung Berlin (Bildungswerk)
END:VEVENT
END:VCALENDAR
