BEGIN:VCALENDAR
VERSION:2.0
PRODID:-//ZContent.net//ZapCalLib 1.0//EN
CALSCALE:GREGORIAN
METHOD:PUBLISH
BEGIN:VEVENT
SUMMARY:Vernissage der Ausstellung „zusammentun. solidarisch gegen rechts
 .“ | Bühnengespräch mit Ausstellungsmacherin Hannah Eitel
DTSTART:20250325T190000
DTEND:20250325T210000
UID:2026-04-22-22-12-13-0-@calendar.boell.de
DTSTAMP:20260422T201213
DESCRIPTION:▶ Siehe Veranstaltungsbeschreibung – Freiburg – Heinrich 
 Böll Stiftung Baden-Württemberg
END:VEVENT
END:VCALENDAR
