BEGIN:VCALENDAR
VERSION:2.0
PRODID:-//ZContent.net//ZapCalLib 1.0//EN
CALSCALE:GREGORIAN
METHOD:PUBLISH
BEGIN:VEVENT
SUMMARY:Jüdisches Leben im Bayerischen Viertel | Stadtspaziergang
DTSTART:20250629T150000
DTEND:20250629T173000
UID:2026-04-24-03-25-06-0-@calendar.boell.de
DTSTAMP:20260424T012506
DESCRIPTION:▶ Siehe Veranstaltungsbeschreibung – Landesstiftung Berlin 
 (Bildungswerk)
END:VEVENT
END:VCALENDAR
