BEGIN:VCALENDAR
VERSION:2.0
PRODID:-//ZContent.net//ZapCalLib 1.0//EN
CALSCALE:GREGORIAN
METHOD:PUBLISH
BEGIN:VEVENT
SUMMARY:Freiheitsschock. Eine andere Geschichte Ostdeutschlands von 1989 bi
 s heute | Lesung und Gespräch mit Ilko-Sascha Kowalczuk in Magdeburg
DTSTART:20250326T193000
DTEND:20250326T213000
UID:2026-04-21-10-08-41-0-@calendar.boell.de
DTSTAMP:20260421T080841
DESCRIPTION:Magdeburg – Landesstiftung Sachsen-Anhalt
END:VEVENT
END:VCALENDAR
