BEGIN:VCALENDAR
VERSION:2.0
PRODID:-//ZContent.net//ZapCalLib 1.0//EN
CALSCALE:GREGORIAN
METHOD:PUBLISH
BEGIN:VEVENT
SUMMARY:Comic-Ausstellung „Wie geht es dir?“  | Zeichner*innen gegen An
 tisemitismus, Hass und Rassismus
DTSTART:20250320T183000
DTEND:20250320T203000
UID:2026-04-24-11-24-24-0-@calendar.boell.de
DTSTAMP:20260424T092424
DESCRIPTION:▶ Siehe Veranstaltungsbeschreibung – Heidelberg – Heinric
 h Böll Stiftung Baden-Württemberg
END:VEVENT
END:VCALENDAR
