BEGIN:VCALENDAR
VERSION:2.0
PRODID:-//ZContent.net//ZapCalLib 1.0//EN
CALSCALE:GREGORIAN
METHOD:PUBLISH
BEGIN:VEVENT
SUMMARY:Wohin treibt Russland? | 47. Grüner Salon Bielefeld: Lesung und Ge
 spräch mit Jens Siegert
DTSTART:20250316T113000
DTEND:20250316T133000
UID:2026-04-21-18-29-51-0-@calendar.boell.de
DTSTAMP:20260421T162951
DESCRIPTION:▶ Siehe Veranstaltungsbeschreibung – Bielefeld – Landesst
 iftung Nordrhein-Westfalen
END:VEVENT
END:VCALENDAR
