BEGIN:VCALENDAR
VERSION:2.0
PRODID:-//ZContent.net//ZapCalLib 1.0//EN
CALSCALE:GREGORIAN
METHOD:PUBLISH
BEGIN:VEVENT
SUMMARY:Drei Länder, zwei Räder, ein Fluss | Unterwegs auf dem RurUfer Ra
 dweg
DTSTART:20250825T101500
DTEND:20250829T190000
UID:2026-04-22-01-39-06-0-@calendar.boell.de
DTSTAMP:20260421T233906
DESCRIPTION:▶ Siehe Veranstaltungsbeschreibung – Landesstiftung Nordrhe
 in-Westfalen
END:VEVENT
END:VCALENDAR
