BEGIN:VCALENDAR
VERSION:2.0
PRODID:-//ZContent.net//ZapCalLib 1.0//EN
CALSCALE:GREGORIAN
METHOD:PUBLISH
BEGIN:VEVENT
SUMMARY:b o s s | working women | Fotografische Portraitserie aus den Partn
 erstädten Hannover, Poznań und Hiroshima
DTSTART:20250308T170000
DTEND:20250308T190000
UID:2026-04-21-19-14-08-0-@calendar.boell.de
DTSTAMP:20260421T171408
DESCRIPTION:Hannover – 
END:VEVENT
END:VCALENDAR
