BEGIN:VCALENDAR
VERSION:2.0
PRODID:-//ZContent.net//ZapCalLib 1.0//EN
CALSCALE:GREGORIAN
METHOD:PUBLISH
BEGIN:VEVENT
SUMMARY:"Klare Kante!" Umgang mit (extrem) rechten Störungen in der Politi
 k | Argumentations- und Haltungstraining für den Umgang mit Rechtspopulis
 mus in Parlamenten und an Wahlkampfständen
DTSTART:20250613T170000
DTEND:20250614T173000
UID:2026-04-23-20-59-22-0-@calendar.boell.de
DTSTAMP:20260423T185922
DESCRIPTION:▶ Siehe Veranstaltungsbeschreibung – Berlin – Landesstift
 ung Berlin (Bildungswerk)
END:VEVENT
END:VCALENDAR
