BEGIN:VCALENDAR
VERSION:2.0
PRODID:-//ZContent.net//ZapCalLib 1.0//EN
CALSCALE:GREGORIAN
METHOD:PUBLISH
BEGIN:VEVENT
SUMMARY:Rente mit Zukunft. Reformszenarien der Alterssicherung | Online-Mit
 tagstalk zur Studie
DTSTART:20250404T130000
DTEND:20250404T143000
UID:2026-04-21-14-21-53-0-@calendar.boell.de
DTSTAMP:20260421T122153
DESCRIPTION:▶ Online-Veranstaltung – Heinrich-Böll-Stiftung - Bundesst
 iftung Berlin
END:VEVENT
END:VCALENDAR
