BEGIN:VCALENDAR
VERSION:2.0
PRODID:-//ZContent.net//ZapCalLib 1.0//EN
CALSCALE:GREGORIAN
METHOD:PUBLISH
BEGIN:VEVENT
SUMMARY:Comic-Ausstellung „Wie geht es dir?“  | Comic-Workshop für all
 e (14+) mit Zeichnerin Julia Kleinbeck
DTSTART:20250313T170000
DTEND:20250313T203000
UID:2026-04-21-12-04-20-0-@calendar.boell.de
DTSTAMP:20260421T100420
DESCRIPTION:▶ Siehe Veranstaltungsbeschreibung – Heidelberg – Heinric
 h Böll Stiftung Baden-Württemberg
END:VEVENT
END:VCALENDAR
