BEGIN:VCALENDAR
VERSION:2.0
PRODID:-//ZContent.net//ZapCalLib 1.0//EN
CALSCALE:GREGORIAN
METHOD:PUBLISH
BEGIN:VEVENT
SUMMARY:Comic-Ausstellung â€žWie geht es dir?â€œ  | Comic-Lesung und GesprÃ
 ¤ch mit Julia Kleinbeck und Nathalie Frank, Mit-Initiator*innen und KÃ¼nst
 ler*innen der Initiative WIE GEHT ES DIR? Gegen Antisemitismus, Hass du Ra
 ssismus
DTSTART:20250313T170000
DTEND:20250313T203000
UID:2026-04-24-02-50-12-0-@calendar.boell.de
DTSTAMP:20260424T005012
DESCRIPTION:â–¶ Siehe Veranstaltungsbeschreibung â€“ Heidelberg â€“ Heinric
 h BÃ¶ll Stiftung Baden-WÃ¼rttemberg
END:VEVENT
END:VCALENDAR
