BEGIN:VCALENDAR
VERSION:2.0
PRODID:-//ZContent.net//ZapCalLib 1.0//EN
CALSCALE:GREGORIAN
METHOD:PUBLISH
BEGIN:VEVENT
SUMMARY:Comic-Ausstellung „Wie geht es dir?“  | Dialog in Krisenzeiten 
 – Projekte stellen sich vor
DTSTART:20250327T183000
DTEND:20250327T200000
UID:2026-04-24-08-26-35-0-@calendar.boell.de
DTSTAMP:20260424T062635
DESCRIPTION:▶ Siehe Veranstaltungsbeschreibung – Heidelberg – Heinric
 h Böll Stiftung Baden-Württemberg
END:VEVENT
BEGIN:VEVENT
SUMMARY:Comic-Ausstellung „Wie geht es dir?“  | Dialog in Krisenzeiten 
 – Projekte stellen sich vor
DTSTART:20250312T180000
DTEND:20250312T210000
UID:2026-04-24-06-26-35-1-@calendar.boell.de
DTSTAMP:20260424T062635
DESCRIPTION:▶ Siehe Veranstaltungsbeschreibung – Heidelberg – Heinric
 h Böll Stiftung Baden-Württemberg
END:VEVENT
BEGIN:VEVENT
SUMMARY:Comic-Ausstellung „Wie geht es dir?“  | Dialog in Krisenzeiten 
 – Projekte stellen sich vor
DTSTART:20250313T170000
DTEND:20250313T203000
UID:2026-04-24-06-26-35-2-@calendar.boell.de
DTSTAMP:20260424T062635
DESCRIPTION:▶ Siehe Veranstaltungsbeschreibung – Heidelberg – Heinric
 h Böll Stiftung Baden-Württemberg
END:VEVENT
BEGIN:VEVENT
SUMMARY:Comic-Ausstellung „Wie geht es dir?“  | Dialog in Krisenzeiten 
 – Projekte stellen sich vor
DTSTART:20250315T130000
DTEND:20250315T170000
UID:2026-04-24-06-26-35-3-@calendar.boell.de
DTSTAMP:20260424T062635
DESCRIPTION:▶ Siehe Veranstaltungsbeschreibung – Heidelberg – Heinric
 h Böll Stiftung Baden-Württemberg
END:VEVENT
BEGIN:VEVENT
SUMMARY:Comic-Ausstellung „Wie geht es dir?“  | Dialog in Krisenzeiten 
 – Projekte stellen sich vor
DTSTART:20250320T183000
DTEND:20250320T203000
UID:2026-04-24-06-26-35-4-@calendar.boell.de
DTSTAMP:20260424T062635
DESCRIPTION:▶ Siehe Veranstaltungsbeschreibung – Heidelberg – Heinric
 h Böll Stiftung Baden-Württemberg
END:VEVENT
BEGIN:VEVENT
SUMMARY:Comic-Ausstellung „Wie geht es dir?“  | Dialog in Krisenzeiten 
 – Projekte stellen sich vor
DTSTART:20250327T183000
DTEND:20250327T203000
UID:2026-04-24-06-26-35-5-@calendar.boell.de
DTSTAMP:20260424T062635
DESCRIPTION:▶ Siehe Veranstaltungsbeschreibung – Heidelberg – Heinric
 h Böll Stiftung Baden-Württemberg
END:VEVENT
END:VCALENDAR
