BEGIN:VCALENDAR
VERSION:2.0
PRODID:-//ZContent.net//ZapCalLib 1.0//EN
CALSCALE:GREGORIAN
METHOD:PUBLISH
BEGIN:VEVENT
SUMMARY:Marcus Bensmann: Niemand kann sagen, er hätte es nicht gewusst | Z
 u den Recherchen des CORRECTIV-Netzwerks über die AfD
DTSTART:20250401T190000
DTEND:20250401T203000
UID:2026-04-21-19-14-00-0-@calendar.boell.de
DTSTAMP:20260421T171400
DESCRIPTION:▶ Siehe Veranstaltungsbeschreibung – Konstanz – Heinrich 
 Böll Stiftung Baden-Württemberg
END:VEVENT
END:VCALENDAR
