BEGIN:VCALENDAR
VERSION:2.0
PRODID:-//ZContent.net//ZapCalLib 1.0//EN
CALSCALE:GREGORIAN
METHOD:PUBLISH
BEGIN:VEVENT
SUMMARY:Jens Siegert und Maria Stepanowa – Wohin treibt Russland? | Szena
 rien für die Zeit danach
DTSTART:20250710T190000
DTEND:20250710T203000
UID:2026-04-21-20-00-09-0-@calendar.boell.de
DTSTAMP:20260421T180009
DESCRIPTION:▶ Siehe Veranstaltungsbeschreibung – Potsdam – Landesstif
 tung Brandenburg
END:VEVENT
END:VCALENDAR
