BEGIN:VCALENDAR
VERSION:2.0
PRODID:-//ZContent.net//ZapCalLib 1.0//EN
CALSCALE:GREGORIAN
METHOD:PUBLISH
BEGIN:VEVENT
SUMMARY:Hengameh Yaghoobifarah: Schwindel |  Lesung und Gespräch mit Nadia
  Brügger in der Reihe Girl, Woman, Other  
DTSTART:20250510T193000
DTEND:20250510T210000
UID:2026-04-25-01-51-31-0-@calendar.boell.de
DTSTAMP:20260424T235131
DESCRIPTION:▶ Siehe Veranstaltungsbeschreibung – Freiburg – 
END:VEVENT
END:VCALENDAR
