BEGIN:VCALENDAR
VERSION:2.0
PRODID:-//ZContent.net//ZapCalLib 1.0//EN
CALSCALE:GREGORIAN
METHOD:PUBLISH
BEGIN:VEVENT
SUMMARY:Demokratie leben - aber wie? | aus der Reihe Fit for Politics - mit
  Ãœbungen â€žDemocracy Fitnessâ€œ, â€žBetzavtaâ€œ oder â€žGlobales Lernenâ
 €œ
DTSTART:20250621T100000
DTEND:20250622T160000
UID:2026-04-21-19-14-09-0-@calendar.boell.de
DTSTAMP:20260421T171409
DESCRIPTION:OsnabrÃ¼ck â€“ Stiftung Leben & Umwelt / Heinrich-BÃ¶ll-Stiftun
 g Niedersachsen
END:VEVENT
END:VCALENDAR
