BEGIN:VCALENDAR
VERSION:2.0
PRODID:-//ZContent.net//ZapCalLib 1.0//EN
CALSCALE:GREGORIAN
METHOD:PUBLISH
BEGIN:VEVENT
SUMMARY:Eröffnungsveranstaltung | im Rahmen der Jin Jiyan Azadî-Ausstellu
 ng in Oldenburg
DTSTART:20250505T170000
DTEND:20250505T183000
UID:2026-04-26-06-15-33-0-@calendar.boell.de
DTSTAMP:20260426T041533
DESCRIPTION:Oldenburg – Stiftung Leben & Umwelt / Heinrich-Böll-Stiftung
  Niedersachsen
END:VEVENT
END:VCALENDAR
