BEGIN:VCALENDAR
VERSION:2.0
PRODID:-//ZContent.net//ZapCalLib 1.0//EN
CALSCALE:GREGORIAN
METHOD:PUBLISH
BEGIN:VEVENT
SUMMARY:Alles im Fluss!? - Wasser in der Krise | Ausstellung im Rahmen der 
 Veranstaltung "Stadt, Land & Flüsse - Wie gestalten wir Zittaus Zukunft?"
  und des Zukunftsprojekts der Stadt Zittau "Green Zitty"
DTSTART:20250517T090000
DTEND:20250601T180000
UID:2026-04-21-19-14-06-0-@calendar.boell.de
DTSTAMP:20260421T171406
DESCRIPTION:▶ Siehe Veranstaltungsbeschreibung – Zittau – Externe Ver
 anstaltung
END:VEVENT
END:VCALENDAR
