BEGIN:VCALENDAR
VERSION:2.0
PRODID:-//ZContent.net//ZapCalLib 1.0//EN
CALSCALE:GREGORIAN
METHOD:PUBLISH
BEGIN:VEVENT
SUMMARY:VaterTochter â€“ Biographie-Workshop fÃ¼r Frauen*  | VaterTochter â
 €“ Biographie-Workshop fÃ¼r Frauen*
DTSTART:20250704T183000
DTEND:20250706T170000
UID:2026-04-24-06-59-55-0-@calendar.boell.de
DTSTAMP:20260424T045955
DESCRIPTION:â–¶ Siehe Veranstaltungsbeschreibung â€“ Berlin â€“ Landesstift
 ung Berlin (Bildungswerk)
END:VEVENT
END:VCALENDAR
