BEGIN:VCALENDAR
VERSION:2.0
PRODID:-//ZContent.net//ZapCalLib 1.0//EN
CALSCALE:GREGORIAN
METHOD:PUBLISH
BEGIN:VEVENT
SUMMARY:Finanzen mit Weitblick | Unser Hebel für eine nachhaltige Zukunft?
DTSTART:20250913T093000
DTEND:20250913T164500
UID:2026-04-24-12-09-27-0-@calendar.boell.de
DTSTAMP:20260424T100927
DESCRIPTION:▶ Siehe Veranstaltungsbeschreibung – Berlin – Landesstift
 ung Berlin (Bildungswerk)
END:VEVENT
END:VCALENDAR
