BEGIN:VCALENDAR
VERSION:2.0
PRODID:-//ZContent.net//ZapCalLib 1.0//EN
CALSCALE:GREGORIAN
METHOD:PUBLISH
BEGIN:VEVENT
SUMMARY:Die Macht der Märkte: Welchen Preis haben unsere Werte? (Passau) |
  Deutschland nach der Wahl – Perspektiven eines Neuanfangs 
DTSTART:20250611T180000
DTEND:20250611T180000
UID:2026-04-24-10-41-08-0-@calendar.boell.de
DTSTAMP:20260424T084108
DESCRIPTION:Passau – Petra-Kelly-Stiftung
END:VEVENT
END:VCALENDAR
