BEGIN:VCALENDAR
VERSION:2.0
PRODID:-//ZContent.net//ZapCalLib 1.0//EN
CALSCALE:GREGORIAN
METHOD:PUBLISH
BEGIN:VEVENT
SUMMARY:Walter Benjamin in Charlottenburg | Stadtspaziergang
DTSTART:20250713T140000
DTEND:20250713T170000
UID:2026-04-23-17-55-10-0-@calendar.boell.de
DTSTAMP:20260423T155510
DESCRIPTION:▶ Siehe Veranstaltungsbeschreibung – Berlin – Landesstift
 ung Berlin (Bildungswerk)
END:VEVENT
END:VCALENDAR
