BEGIN:VCALENDAR
VERSION:2.0
PRODID:-//ZContent.net//ZapCalLib 1.0//EN
CALSCALE:GREGORIAN
METHOD:PUBLISH
BEGIN:VEVENT
SUMMARY:Kommunal engagiert – Lokale Ökonomie und Commoning vor Ort
DTSTART:20250731T103000
DTEND:20250731T120000
UID:2026-04-25-13-25-58-0-@calendar.boell.de
DTSTAMP:20260425T112558
DESCRIPTION:▶ Online-Veranstaltung – Landesstiftung Schleswig-Holstein
END:VEVENT
END:VCALENDAR
