BEGIN:VCALENDAR
VERSION:2.0
PRODID:-//ZContent.net//ZapCalLib 1.0//EN
CALSCALE:GREGORIAN
METHOD:PUBLISH
BEGIN:VEVENT
SUMMARY:Auf das Wasser kommt es an! | Strukturwandel im Mitteldeutschen Rev
 ier
DTSTART:20250924T100000
DTEND:20250924T180000
UID:2026-04-21-11-35-04-0-@calendar.boell.de
DTSTAMP:20260421T093504
DESCRIPTION:▶ Siehe Veranstaltungsbeschreibung – Landesstiftung Sachsen
  (Weiterdenken)
END:VEVENT
END:VCALENDAR
