BEGIN:VCALENDAR
VERSION:2.0
PRODID:-//ZContent.net//ZapCalLib 1.0//EN
CALSCALE:GREGORIAN
METHOD:PUBLISH
BEGIN:VEVENT
SUMMARY:Alles im Fluss!? Wasser in der Krise | Ausstellung in der KVHS Ucke
 rmark
DTSTART:20250526T080000
DTEND:20250718T190000
UID:2026-04-21-19-13-56-0-@calendar.boell.de
DTSTAMP:20260421T171356
DESCRIPTION:▶ Siehe Veranstaltungsbeschreibung – Prenzlau – Landessti
 ftung Brandenburg
END:VEVENT
END:VCALENDAR
