BEGIN:VCALENDAR
VERSION:2.0
PRODID:-//ZContent.net//ZapCalLib 1.0//EN
CALSCALE:GREGORIAN
METHOD:PUBLISH
BEGIN:VEVENT
SUMMARY:Gendersensibel mit Gruppen arbeiten | Aufbauworkshop
DTSTART:20251126T160000
DTEND:20251126T200000
UID:2026-04-24-02-47-27-0-@calendar.boell.de
DTSTAMP:20260424T004727
DESCRIPTION:▶ Online-Veranstaltung – Heinrich Böll Stiftung Baden-Wür
 ttemberg
END:VEVENT
END:VCALENDAR
