BEGIN:VCALENDAR
VERSION:2.0
PRODID:-//ZContent.net//ZapCalLib 1.0//EN
CALSCALE:GREGORIAN
METHOD:PUBLISH
BEGIN:VEVENT
SUMMARY:Re- | Visions of history in right-wing populism and the far right. 
  | European and global perspectives
DTSTART:20250908T133000
DTEND:20250910T130000
UID:2026-04-25-06-19-41-0-@calendar.boell.de
DTSTAMP:20260425T041941
DESCRIPTION:Heinrich-Böll-Stiftung - Bundesstiftung Berlin – Berlin – 
 Heinrich-Böll-Stiftung - Bundesstiftung Berlin
END:VEVENT
BEGIN:VEVENT
SUMMARY:Re- | Visions of history in right-wing populism and the far right. 
  | European and global perspectives
DTSTART:20250908T133000
DTEND:20250908T180000
UID:2026-04-25-04-19-41-1-@calendar.boell.de
DTSTAMP:20260425T041941
DESCRIPTION:Heinrich-Böll-Stiftung - Bundesstiftung Berlin – Berlin – 
 Heinrich-Böll-Stiftung - Bundesstiftung Berlin
END:VEVENT
BEGIN:VEVENT
SUMMARY:Re- | Visions of history in right-wing populism and the far right. 
  | European and global perspectives
DTSTART:20250909T090000
DTEND:20250909T160000
UID:2026-04-25-04-19-41-2-@calendar.boell.de
DTSTAMP:20260425T041941
DESCRIPTION:Heinrich-Böll-Stiftung - Bundesstiftung Berlin – Berlin – 
 Heinrich-Böll-Stiftung - Bundesstiftung Berlin
END:VEVENT
BEGIN:VEVENT
SUMMARY:Re- | Visions of history in right-wing populism and the far right. 
  | European and global perspectives
DTSTART:20250910T090000
DTEND:20250910T131500
UID:2026-04-25-04-19-41-3-@calendar.boell.de
DTSTAMP:20260425T041941
DESCRIPTION:Heinrich-Böll-Stiftung - Bundesstiftung Berlin – Berlin – 
 Heinrich-Böll-Stiftung - Bundesstiftung Berlin
END:VEVENT
END:VCALENDAR
