BEGIN:VCALENDAR
VERSION:2.0
PRODID:-//ZContent.net//ZapCalLib 1.0//EN
CALSCALE:GREGORIAN
METHOD:PUBLISH
BEGIN:VEVENT
SUMMARY:Wie geht es dir? | Ausstellung | Vernissage
DTSTART:20250702T180000
DTEND:20250702T193000
UID:2026-04-22-01-39-01-0-@calendar.boell.de
DTSTAMP:20260421T233901
DESCRIPTION:Heinrich Böll Stiftung Baden-Württemberg
END:VEVENT
END:VCALENDAR
