BEGIN:VCALENDAR
VERSION:2.0
PRODID:-//ZContent.net//ZapCalLib 1.0//EN
CALSCALE:GREGORIAN
METHOD:PUBLISH
BEGIN:VEVENT
SUMMARY:Prenzlberg auf der Leinwand - Film & Dialog: Krieg oder Frieden
DTSTART:20250925T193000
DTEND:20250925T220000
UID:2026-04-23-20-59-17-0-@calendar.boell.de
DTSTAMP:20260423T185917
DESCRIPTION:▶ Siehe Veranstaltungsbeschreibung – Berlin – Landesstift
 ung Berlin (Bildungswerk)
END:VEVENT
END:VCALENDAR
