BEGIN:VCALENDAR
VERSION:2.0
PRODID:-//ZContent.net//ZapCalLib 1.0//EN
CALSCALE:GREGORIAN
METHOD:PUBLISH
BEGIN:VEVENT
SUMMARY:Demokratie Fitness | Konstruktiv streiten, Zuhören lernen, Komprom
 isse finden!
DTSTART:20251014T160000
DTEND:20251014T180000
UID:2026-04-24-03-24-51-0-@calendar.boell.de
DTSTAMP:20260424T012451
DESCRIPTION:Stuttgart – Heinrich Böll Stiftung Baden-Württemberg
END:VEVENT
END:VCALENDAR
