BEGIN:VCALENDAR
VERSION:2.0
PRODID:-//ZContent.net//ZapCalLib 1.0//EN
CALSCALE:GREGORIAN
METHOD:PUBLISH
BEGIN:VEVENT
SUMMARY:Feministische Arbeitskultur | Raum für Reflexion, Austausch und Zu
 kunftsvisionen
DTSTART:20251025T090000
DTEND:20251025T123000
UID:2026-04-22-03-01-48-0-@calendar.boell.de
DTSTAMP:20260422T010148
DESCRIPTION:▶ Siehe Veranstaltungsbeschreibung – Ulm – Heinrich Böll
  Stiftung Baden-Württemberg
END:VEVENT
END:VCALENDAR
