BEGIN:VCALENDAR
VERSION:2.0
PRODID:-//ZContent.net//ZapCalLib 1.0//EN
CALSCALE:GREGORIAN
METHOD:PUBLISH
BEGIN:VEVENT
SUMMARY:16. Landesgedenkstättentagung Schleswig-Holstein | Zwischen Konkur
 renz und Anerkennung – Erinnerungskultur in der postmigrantischen Gesell
 schaft 
DTSTART:20250912T000000
DTEND:20250914T235900
UID:2026-04-24-02-47-45-0-@calendar.boell.de
DTSTAMP:20260424T004745
DESCRIPTION:▶ Siehe Veranstaltungsbeschreibung – Landesstiftung Schlesw
 ig-Holstein
END:VEVENT
END:VCALENDAR
