BEGIN:VCALENDAR
VERSION:2.0
PRODID:-//ZContent.net//ZapCalLib 1.0//EN
CALSCALE:GREGORIAN
METHOD:PUBLISH
BEGIN:VEVENT
SUMMARY:Zur Geschichte der Einwanderung | Stadtspaziergang
DTSTART:20250914T150000
DTEND:20250914T173000
UID:2026-04-25-01-34-06-0-@calendar.boell.de
DTSTAMP:20260424T233406
DESCRIPTION:▶ Siehe Veranstaltungsbeschreibung – Landesstiftung Berlin 
 (Bildungswerk)
END:VEVENT
END:VCALENDAR
