BEGIN:VCALENDAR
VERSION:2.0
PRODID:-//ZContent.net//ZapCalLib 1.0//EN
CALSCALE:GREGORIAN
METHOD:PUBLISH
BEGIN:VEVENT
SUMMARY:Erfolgreich Verhandeln - sachgerecht, lösungsorientiert und fair
DTSTART:20251121T170000
DTEND:20251123T173000
UID:2026-04-22-22-12-16-0-@calendar.boell.de
DTSTAMP:20260422T201216
DESCRIPTION:▶ Siehe Veranstaltungsbeschreibung – Berlin – Landesstift
 ung Berlin (Bildungswerk)
END:VEVENT
END:VCALENDAR
