BEGIN:VCALENDAR
VERSION:2.0
PRODID:-//ZContent.net//ZapCalLib 1.0//EN
CALSCALE:GREGORIAN
METHOD:PUBLISH
BEGIN:VEVENT
SUMMARY:Wie wir uns rechten Kampfbegriffen entgegenstellen | Zur politische
 n Instrumentalisierung des Begriffes "Deep State" und Gegenstrategien
DTSTART:20251001T180000
DTEND:20251001T193000
UID:2026-04-24-01-57-32-0-@calendar.boell.de
DTSTAMP:20260423T235732
DESCRIPTION:▶ Online-Veranstaltung – Heinrich-Böll-Stiftung im Stiftun
 gsverbund
END:VEVENT
END:VCALENDAR
