BEGIN:VCALENDAR
VERSION:2.0
PRODID:-//ZContent.net//ZapCalLib 1.0//EN
CALSCALE:GREGORIAN
METHOD:PUBLISH
BEGIN:VEVENT
SUMMARY:Streiten ohne Spaltung: Wie wir den digitalen Dialog retten können
  | im Rahmen der re:publica Hamburg & der Hamburger Tage der Demokratie au
 f dem Reeperbahnfestival 2025
DTSTART:20250919T144000
DTEND:20250919T154000
UID:2026-04-22-03-01-54-0-@calendar.boell.de
DTSTAMP:20260422T010154
DESCRIPTION:▶ Siehe Veranstaltungsbeschreibung – Hamburg – 
END:VEVENT
END:VCALENDAR
