BEGIN:VCALENDAR
VERSION:2.0
PRODID:-//ZContent.net//ZapCalLib 1.0//EN
CALSCALE:GREGORIAN
METHOD:PUBLISH
BEGIN:VEVENT
SUMMARY:Queer, offen & für alle | Kurzfilmtour 2025
DTSTART:20250926T190000
DTEND:20250926T203000
UID:2026-04-21-21-25-39-0-@calendar.boell.de
DTSTAMP:20260421T192539
DESCRIPTION:▶ Siehe Veranstaltungsbeschreibung – Freiberg – Landessti
 ftung Sachsen (Weiterdenken)
END:VEVENT
END:VCALENDAR
