BEGIN:VCALENDAR
VERSION:2.0
PRODID:-//ZContent.net//ZapCalLib 1.0//EN
CALSCALE:GREGORIAN
METHOD:PUBLISH
BEGIN:VEVENT
SUMMARY:Queer, offen & für alle | Kurzfilmtour 2025
DTSTART:20251211T190000
DTEND:20251211T203000
UID:2026-04-22-20-05-46-0-@calendar.boell.de
DTSTAMP:20260422T180546
DESCRIPTION:▶ Siehe Veranstaltungsbeschreibung – Freiberg – Landessti
 ftung Sachsen (Weiterdenken)
END:VEVENT
END:VCALENDAR
