BEGIN:VCALENDAR
VERSION:2.0
PRODID:-//ZContent.net//ZapCalLib 1.0//EN
CALSCALE:GREGORIAN
METHOD:PUBLISH
BEGIN:VEVENT
SUMMARY:Die Möllner Briefe – Film & Gespräch
DTSTART:20250930T180000
DTEND:20250930T203000
UID:2026-04-25-15-05-04-0-@calendar.boell.de
DTSTAMP:20260425T130504
DESCRIPTION:▶ Siehe Veranstaltungsbeschreibung – Kiel – Landesstiftun
 g Schleswig-Holstein
END:VEVENT
END:VCALENDAR
