BEGIN:VCALENDAR
VERSION:2.0
PRODID:-//ZContent.net//ZapCalLib 1.0//EN
CALSCALE:GREGORIAN
METHOD:PUBLISH
BEGIN:VEVENT
SUMMARY: Alles auf Anfang. Auf der Suche nach einer neuen Erinnerungskultur
  | Buchpremiere in Halle mit Hadija Haruna-Oelker und Max Czollek!
DTSTART:20251022T200000
DTEND:20251022T213000
UID:2026-04-21-19-14-06-0-@calendar.boell.de
DTSTAMP:20260421T171406
DESCRIPTION:Halle (Saale) – Landesstiftung Sachsen-Anhalt
END:VEVENT
END:VCALENDAR
