BEGIN:VCALENDAR
VERSION:2.0
PRODID:-//ZContent.net//ZapCalLib 1.0//EN
CALSCALE:GREGORIAN
METHOD:PUBLISH
BEGIN:VEVENT
SUMMARY:Hamburger Kongress gegen Feminizide und geschlechterbasierte Gewalt
DTSTART:20251121T170000
DTEND:20251123T180000
UID:2026-04-26-04-41-44-0-@calendar.boell.de
DTSTAMP:20260426T024144
DESCRIPTION:▶ Siehe Veranstaltungsbeschreibung – Hamburg – Landesstif
 tung Hamburg
END:VEVENT
END:VCALENDAR
