BEGIN:VCALENDAR
VERSION:2.0
PRODID:-//ZContent.net//ZapCalLib 1.0//EN
CALSCALE:GREGORIAN
METHOD:PUBLISH
BEGIN:VEVENT
SUMMARY:[Warteliste] Endling | Von einem Roadtrip im Jahr 2041
DTSTART:20251120T193000
DTEND:20251120T210000
UID:2026-04-25-15-04-48-0-@calendar.boell.de
DTSTAMP:20260425T130448
DESCRIPTION:Erfurt – Landesstiftung Thüringen
END:VEVENT
END:VCALENDAR
