BEGIN:VCALENDAR
VERSION:2.0
PRODID:-//ZContent.net//ZapCalLib 1.0//EN
CALSCALE:GREGORIAN
METHOD:PUBLISH
BEGIN:VEVENT
SUMMARY:Jüdisch-literarisches Rondeel  | Queere Lebenswelten in Deutschlan
 d und Israel
DTSTART:20251009T180000
DTEND:20251009T200000
UID:2026-04-22-05-49-50-0-@calendar.boell.de
DTSTAMP:20260422T034950
DESCRIPTION:Berlin – Externe Veranstaltung
END:VEVENT
END:VCALENDAR
