BEGIN:VCALENDAR
VERSION:2.0
PRODID:-//ZContent.net//ZapCalLib 1.0//EN
CALSCALE:GREGORIAN
METHOD:PUBLISH
BEGIN:VEVENT
SUMMARY:Gut vorbereitet auf Anfeindungen und Gewalt - Seminar für eine sta
 rke Kommunalpolitik  | Präventions-Workshop zum Umgang mit Anfeindungen u
 nd Gewalt gegenüber kommunalpolitisch Aktiven 
DTSTART:20251118T180000
DTEND:20251118T200000
UID:2026-04-26-06-15-29-0-@calendar.boell.de
DTSTAMP:20260426T041529
DESCRIPTION:▶ Online-Veranstaltung – Petra-Kelly-Stiftung
END:VEVENT
END:VCALENDAR
